BEGIN:VCALENDAR
VERSION:2.0
PRODID:-//Fifty West Brewing Company - ECPv6.15.12.1//NONSGML v1.0//EN
CALSCALE:GREGORIAN
METHOD:PUBLISH
X-WR-CALNAME:Fifty West Brewing Company
X-ORIGINAL-URL:https://fiftywestbrew.com
X-WR-CALDESC:Events for Fifty West Brewing Company
REFRESH-INTERVAL;VALUE=DURATION:PT1H
X-Robots-Tag:noindex
X-PUBLISHED-TTL:PT1H
BEGIN:VTIMEZONE
TZID:America/Halifax
BEGIN:DAYLIGHT
TZOFFSETFROM:-0400
TZOFFSETTO:-0300
TZNAME:ADT
DTSTART:20210314T060000
END:DAYLIGHT
BEGIN:STANDARD
TZOFFSETFROM:-0300
TZOFFSETTO:-0400
TZNAME:AST
DTSTART:20211107T050000
END:STANDARD
BEGIN:DAYLIGHT
TZOFFSETFROM:-0400
TZOFFSETTO:-0300
TZNAME:ADT
DTSTART:20220313T060000
END:DAYLIGHT
BEGIN:STANDARD
TZOFFSETFROM:-0300
TZOFFSETTO:-0400
TZNAME:AST
DTSTART:20221106T050000
END:STANDARD
BEGIN:DAYLIGHT
TZOFFSETFROM:-0400
TZOFFSETTO:-0300
TZNAME:ADT
DTSTART:20230312T060000
END:DAYLIGHT
BEGIN:STANDARD
TZOFFSETFROM:-0300
TZOFFSETTO:-0400
TZNAME:AST
DTSTART:20231105T050000
END:STANDARD
END:VTIMEZONE
BEGIN:VTIMEZONE
TZID:America/New_York
BEGIN:DAYLIGHT
TZOFFSETFROM:-0500
TZOFFSETTO:-0400
TZNAME:EDT
DTSTART:20210314T070000
END:DAYLIGHT
BEGIN:STANDARD
TZOFFSETFROM:-0400
TZOFFSETTO:-0500
TZNAME:EST
DTSTART:20211107T060000
END:STANDARD
BEGIN:DAYLIGHT
TZOFFSETFROM:-0500
TZOFFSETTO:-0400
TZNAME:EDT
DTSTART:20220313T070000
END:DAYLIGHT
BEGIN:STANDARD
TZOFFSETFROM:-0400
TZOFFSETTO:-0500
TZNAME:EST
DTSTART:20221106T060000
END:STANDARD
BEGIN:DAYLIGHT
TZOFFSETFROM:-0500
TZOFFSETTO:-0400
TZNAME:EDT
DTSTART:20230312T070000
END:DAYLIGHT
BEGIN:STANDARD
TZOFFSETFROM:-0400
TZOFFSETTO:-0500
TZNAME:EST
DTSTART:20231105T060000
END:STANDARD
END:VTIMEZONE
BEGIN:VEVENT
DTSTART;VALUE=DATE:20221206
DTEND;VALUE=DATE:20221207
DTSTAMP:20260421T183837
CREATED:20180517T133008Z
LAST-MODIFIED:20190520T184249Z
UID:10002262-1670284800-1670371199@fiftywestbrew.com
SUMMARY:Tie-Dye Tuesday
DESCRIPTION:Wear tie-dye on Tuesdays at Fifty West Canoe & Kayak for $5 off your boat rental fee. 2 and 5 mile trips available. Reservations only on 10 mile trips.
URL:https://fiftywestbrew.com/event/tie-dye-tuesday/2022-12-06/
LOCATION:Fifty West Canoe & Kayak\, 7639 Wooster Pike\, Cincinnati\, OH\, 45227\, United States
CATEGORIES:Canoe & Kayak,Outdoors,Special Event
GEO:39.1387708;-84.3540782
X-APPLE-STRUCTURED-LOCATION;VALUE=URI;X-ADDRESS=Fifty West Canoe & Kayak 7639 Wooster Pike Cincinnati OH 45227 United States;X-APPLE-RADIUS=500;X-TITLE=7639 Wooster Pike:geo:-84.3540782,39.1387708
END:VEVENT
BEGIN:VEVENT
DTSTART;TZID=America/New_York:20221210T170000
DTEND;TZID=America/New_York:20221210T190000
DTSTAMP:20260421T183837
CREATED:20221116T170429Z
LAST-MODIFIED:20221206T174206Z
UID:10002600-1670691600-1670698800@fiftywestbrew.com
SUMMARY:Photos with Santa 12/10
DESCRIPTION:  \nOur Winter Wonderland at the Burger Bar and Beer Garden wouldn’t be complete without a visit and photo-op from Santa himself! Santa coming to our ice rink provides the perfect opportunity to get a great Christmas photo this year. Come by and get a picture in front of Santa’s mobile toy workshop with just the kids\, or the whole family! While your photo prints\, turn around and chat with Santa\, and then head to the bar to grab a free hot cocoa for the kids! Dogs and kids are welcome 🎄 \n  \nSanta and his workshop will be at the 50W Beer Garden on Saturday\, December 10th 5-7pm \n  \n7605 Wooster Pike Cincinnati\, OH 45227 \n  \nTickets include one physical photo print and one digital copy. Ticket covers one group/family\, and includes free hot cocoa for the kids! Come any time during the operating hours and join the line for your visit. \nPurchase ticket below for Saturday\, December 10th\, 2022
URL:https://fiftywestbrew.com/event/photos-with-santa-12-10/
LOCATION:Fifty West Cincinnati\, 7605 Wooster Pike\, Cincinnati\, OH\, 45227\, United States
END:VEVENT
END:VCALENDAR