BEGIN:VCALENDAR
VERSION:2.0
PRODID:-//Fifty West Brewing Company - ECPv6.15.12.1//NONSGML v1.0//EN
CALSCALE:GREGORIAN
METHOD:PUBLISH
X-WR-CALNAME:Fifty West Brewing Company
X-ORIGINAL-URL:https://fiftywestbrew.com
X-WR-CALDESC:Events for Fifty West Brewing Company
REFRESH-INTERVAL;VALUE=DURATION:PT1H
X-Robots-Tag:noindex
X-PUBLISHED-TTL:PT1H
BEGIN:VTIMEZONE
TZID:America/Halifax
BEGIN:DAYLIGHT
TZOFFSETFROM:-0400
TZOFFSETTO:-0300
TZNAME:ADT
DTSTART:20200308T060000
END:DAYLIGHT
BEGIN:STANDARD
TZOFFSETFROM:-0300
TZOFFSETTO:-0400
TZNAME:AST
DTSTART:20201101T050000
END:STANDARD
BEGIN:DAYLIGHT
TZOFFSETFROM:-0400
TZOFFSETTO:-0300
TZNAME:ADT
DTSTART:20210314T060000
END:DAYLIGHT
BEGIN:STANDARD
TZOFFSETFROM:-0300
TZOFFSETTO:-0400
TZNAME:AST
DTSTART:20211107T050000
END:STANDARD
BEGIN:DAYLIGHT
TZOFFSETFROM:-0400
TZOFFSETTO:-0300
TZNAME:ADT
DTSTART:20220313T060000
END:DAYLIGHT
BEGIN:STANDARD
TZOFFSETFROM:-0300
TZOFFSETTO:-0400
TZNAME:AST
DTSTART:20221106T050000
END:STANDARD
END:VTIMEZONE
BEGIN:VTIMEZONE
TZID:America/New_York
BEGIN:DAYLIGHT
TZOFFSETFROM:-0500
TZOFFSETTO:-0400
TZNAME:EDT
DTSTART:20200308T070000
END:DAYLIGHT
BEGIN:STANDARD
TZOFFSETFROM:-0400
TZOFFSETTO:-0500
TZNAME:EST
DTSTART:20201101T060000
END:STANDARD
BEGIN:DAYLIGHT
TZOFFSETFROM:-0500
TZOFFSETTO:-0400
TZNAME:EDT
DTSTART:20210314T070000
END:DAYLIGHT
BEGIN:STANDARD
TZOFFSETFROM:-0400
TZOFFSETTO:-0500
TZNAME:EST
DTSTART:20211107T060000
END:STANDARD
BEGIN:DAYLIGHT
TZOFFSETFROM:-0500
TZOFFSETTO:-0400
TZNAME:EDT
DTSTART:20220313T070000
END:DAYLIGHT
BEGIN:STANDARD
TZOFFSETFROM:-0400
TZOFFSETTO:-0500
TZNAME:EST
DTSTART:20221106T060000
END:STANDARD
END:VTIMEZONE
BEGIN:VEVENT
DTSTART;VALUE=DATE:20210810
DTEND;VALUE=DATE:20210811
DTSTAMP:20260423T223014
CREATED:20180517T133008Z
LAST-MODIFIED:20190520T184249Z
UID:10002193-1628553600-1628639999@fiftywestbrew.com
SUMMARY:Tie-Dye Tuesday
DESCRIPTION:Wear tie-dye on Tuesdays at Fifty West Canoe & Kayak for $5 off your boat rental fee. 2 and 5 mile trips available. Reservations only on 10 mile trips.
URL:https://fiftywestbrew.com/event/tie-dye-tuesday/2021-08-10/
LOCATION:Fifty West Canoe & Kayak\, 7639 Wooster Pike\, Cincinnati\, OH\, 45227\, United States
CATEGORIES:Canoe & Kayak,Outdoors,Special Event
GEO:39.1387708;-84.3540782
X-APPLE-STRUCTURED-LOCATION;VALUE=URI;X-ADDRESS=Fifty West Canoe & Kayak 7639 Wooster Pike Cincinnati OH 45227 United States;X-APPLE-RADIUS=500;X-TITLE=7639 Wooster Pike:geo:-84.3540782,39.1387708
END:VEVENT
BEGIN:VEVENT
DTSTART;TZID=America/New_York:20210814T200000
DTEND;TZID=America/New_York:20210814T220000
DTSTAMP:20260423T223014
CREATED:20210712T201030Z
LAST-MODIFIED:20220812T165535Z
UID:10002571-1628971200-1628978400@fiftywestbrew.com
SUMMARY:Fifty West Fleet Feet Drink 'N Dash Beer Mile
DESCRIPTION:  \nWhat’s the Drink N Dash? An impressive and casual feat of human fitness\, pairing two of our favorite activities: Beer and running! \nWe’re celebrating the Grand Opening of Fleet Feet here on our campus with a fun beer mile. \nAll participants will run a lap around the designated route below\, three times. Before each lap\, each participant will drink one beer. Once the beer is finished\, each runner may continue on to their next lap. \nOnce you are done\, head to Fleet Feet at Fifty West to check out the new store\, and hang in the Beer Garden for a brew (if you’re up to it) and burger! \nRegistration includes a free order of fries and a Fleet Feet hat \nMust be 21+ to participate \nOFFICIAL RULES\n1.    Each competitor drinks 4 cans of beer and runs 3 laps around the course. (Start – Beer\, Lap\, Beer\, Lap\, Beer\, Lap\, Beer\, Finish) \n2.    Beer consumption will take place in the transition area only. \n3.    Do not tamper with the beer cans in any manner. I.E. no shotgunning\, puncturing the can\, or using a straw. Just drink the beer normally. \n4.    There will not be heats or waves. If you plan on trying to win\, head towards the front of the pack at start time. If you’re here for a good time and don’t care about winning\, head towards the back. \n5. Listen to your body! Come to have fun\, don’t over do it. \n  \nParking and race route: \n \n 
URL:https://fiftywestbrew.com/event/drink-n-dash/
LOCATION:Fifty West Cincinnati\, 7605 Wooster Pike\, Cincinnati\, OH\, 45227\, United States
END:VEVENT
END:VCALENDAR