BEGIN:VCALENDAR
VERSION:2.0
PRODID:-//Fifty West Brewing Company - ECPv6.15.12.1//NONSGML v1.0//EN
CALSCALE:GREGORIAN
METHOD:PUBLISH
X-WR-CALNAME:Fifty West Brewing Company
X-ORIGINAL-URL:https://fiftywestbrew.com
X-WR-CALDESC:Events for Fifty West Brewing Company
REFRESH-INTERVAL;VALUE=DURATION:PT1H
X-Robots-Tag:noindex
X-PUBLISHED-TTL:PT1H
BEGIN:VTIMEZONE
TZID:UTC
BEGIN:STANDARD
TZOFFSETFROM:+0000
TZOFFSETTO:+0000
TZNAME:UTC
DTSTART:20150101T000000
END:STANDARD
END:VTIMEZONE
BEGIN:VTIMEZONE
TZID:America/Halifax
BEGIN:DAYLIGHT
TZOFFSETFROM:-0400
TZOFFSETTO:-0300
TZNAME:ADT
DTSTART:20150308T060000
END:DAYLIGHT
BEGIN:STANDARD
TZOFFSETFROM:-0300
TZOFFSETTO:-0400
TZNAME:AST
DTSTART:20151101T050000
END:STANDARD
BEGIN:DAYLIGHT
TZOFFSETFROM:-0400
TZOFFSETTO:-0300
TZNAME:ADT
DTSTART:20160313T060000
END:DAYLIGHT
BEGIN:STANDARD
TZOFFSETFROM:-0300
TZOFFSETTO:-0400
TZNAME:AST
DTSTART:20161106T050000
END:STANDARD
BEGIN:DAYLIGHT
TZOFFSETFROM:-0400
TZOFFSETTO:-0300
TZNAME:ADT
DTSTART:20170312T060000
END:DAYLIGHT
BEGIN:STANDARD
TZOFFSETFROM:-0300
TZOFFSETTO:-0400
TZNAME:AST
DTSTART:20171105T050000
END:STANDARD
END:VTIMEZONE
BEGIN:VEVENT
DTSTART;TZID=UTC:20160911T160000
DTEND;TZID=UTC:20160911T200000
DTSTAMP:20260421T145338
CREATED:20160906T185303Z
LAST-MODIFIED:20160906T185303Z
UID:10001676-1473609600-1473624000@fiftywestbrew.com
SUMMARY:Cheers to Hope Charity Event
DESCRIPTION:Event Description\n\n\n\nJoin us on Sunday September 11th from 4:00-8:00 for “Cheers to Hope”.  The evening will include good food\, drinks\, a silent auction\, and fun at Fifty West Brewery to support the Matthew and Andrew Akin Foundation. Help us in honoring those we’ve lost\, inspiring hope in those who are fighting\, and offering hope that one day the devastation caused by HLH will be stopped.  With the funds raised from this event\, another child may be given the opportunity to live out their dreams and a parent may be spared the devastation of losing their child.
URL:https://fiftywestbrew.com/event/cheers-hope-charity-event/
LOCATION:Fifty West Production Works\, 7605 Wooster Pike\, Cincinnati\, OH\, 45227\, United States
CATEGORIES:Charity Event
GEO:39.1392932;-84.3551409
X-APPLE-STRUCTURED-LOCATION;VALUE=URI;X-ADDRESS=Fifty West Production Works 7605 Wooster Pike Cincinnati OH 45227 United States;X-APPLE-RADIUS=500;X-TITLE=7605 Wooster Pike:geo:-84.3551409,39.1392932
END:VEVENT
BEGIN:VEVENT
DTSTART;TZID=America/Halifax:20161027T160000
DTEND;TZID=America/Halifax:20161027T220000
DTSTAMP:20260421T145338
CREATED:20160928T172255Z
LAST-MODIFIED:20160928T172255Z
UID:10001690-1477584000-1477605600@fiftywestbrew.com
SUMMARY:Share the Road Charity Event: Pink Ribbon Girls
DESCRIPTION:This month\, we will be teaming up with our friends from Pink Ribbon Girls to help raise money for breast cancer research. When you stop out to the Brewpub on 10.27.16\, a portion of your meal’s proceeds will go to benefit the Pink Ribbon Girls. \n  \nYou can also expect raffles and reps from Pink Ribbon Girls to be on site to answer any questions!
URL:https://fiftywestbrew.com/event/share-road-charity-event-pink-ribbon-girls/
LOCATION:Fifty West Brewpub\, 7668 Wooster Pike\, Cincinnati\, OH\, 45227\, United States
CATEGORIES:Brewpub,Charity Event
GEO:39.1394375;-84.3538479
X-APPLE-STRUCTURED-LOCATION;VALUE=URI;X-ADDRESS=Fifty West Brewpub 7668 Wooster Pike Cincinnati OH 45227 United States;X-APPLE-RADIUS=500;X-TITLE=7668 Wooster Pike:geo:-84.3538479,39.1394375
END:VEVENT
END:VCALENDAR