BEGIN:VCALENDAR
VERSION:2.0
PRODID:-//Fifty West Brewing Company - ECPv6.15.12.1//NONSGML v1.0//EN
CALSCALE:GREGORIAN
METHOD:PUBLISH
X-WR-CALNAME:Fifty West Brewing Company
X-ORIGINAL-URL:https://fiftywestbrew.com
X-WR-CALDESC:Events for Fifty West Brewing Company
REFRESH-INTERVAL;VALUE=DURATION:PT1H
X-Robots-Tag:noindex
X-PUBLISHED-TTL:PT1H
BEGIN:VTIMEZONE
TZID:America/Halifax
BEGIN:DAYLIGHT
TZOFFSETFROM:-0400
TZOFFSETTO:-0300
TZNAME:ADT
DTSTART:20170312T060000
END:DAYLIGHT
BEGIN:STANDARD
TZOFFSETFROM:-0300
TZOFFSETTO:-0400
TZNAME:AST
DTSTART:20171105T050000
END:STANDARD
BEGIN:DAYLIGHT
TZOFFSETFROM:-0400
TZOFFSETTO:-0300
TZNAME:ADT
DTSTART:20180311T060000
END:DAYLIGHT
BEGIN:STANDARD
TZOFFSETFROM:-0300
TZOFFSETTO:-0400
TZNAME:AST
DTSTART:20181104T050000
END:STANDARD
BEGIN:DAYLIGHT
TZOFFSETFROM:-0400
TZOFFSETTO:-0300
TZNAME:ADT
DTSTART:20190310T060000
END:DAYLIGHT
BEGIN:STANDARD
TZOFFSETFROM:-0300
TZOFFSETTO:-0400
TZNAME:AST
DTSTART:20191103T050000
END:STANDARD
END:VTIMEZONE
BEGIN:VTIMEZONE
TZID:America/New_York
BEGIN:DAYLIGHT
TZOFFSETFROM:-0500
TZOFFSETTO:-0400
TZNAME:EDT
DTSTART:20170312T070000
END:DAYLIGHT
BEGIN:STANDARD
TZOFFSETFROM:-0400
TZOFFSETTO:-0500
TZNAME:EST
DTSTART:20171105T060000
END:STANDARD
BEGIN:DAYLIGHT
TZOFFSETFROM:-0500
TZOFFSETTO:-0400
TZNAME:EDT
DTSTART:20180311T070000
END:DAYLIGHT
BEGIN:STANDARD
TZOFFSETFROM:-0400
TZOFFSETTO:-0500
TZNAME:EST
DTSTART:20181104T060000
END:STANDARD
BEGIN:DAYLIGHT
TZOFFSETFROM:-0500
TZOFFSETTO:-0400
TZNAME:EDT
DTSTART:20190310T070000
END:DAYLIGHT
BEGIN:STANDARD
TZOFFSETFROM:-0400
TZOFFSETTO:-0500
TZNAME:EST
DTSTART:20191103T060000
END:STANDARD
BEGIN:DAYLIGHT
TZOFFSETFROM:-0500
TZOFFSETTO:-0400
TZNAME:EDT
DTSTART:20200308T070000
END:DAYLIGHT
BEGIN:STANDARD
TZOFFSETFROM:-0400
TZOFFSETTO:-0500
TZNAME:EST
DTSTART:20201101T060000
END:STANDARD
END:VTIMEZONE
BEGIN:VEVENT
DTSTART;VALUE=DATE:20181204
DTEND;VALUE=DATE:20181205
DTSTAMP:20260420T094826
CREATED:20180517T133008Z
LAST-MODIFIED:20190520T184249Z
UID:10002081-1543881600-1543967999@fiftywestbrew.com
SUMMARY:Tie-Dye Tuesday
DESCRIPTION:Wear tie-dye on Tuesdays at Fifty West Canoe & Kayak for $5 off your boat rental fee. 2 and 5 mile trips available. Reservations only on 10 mile trips.
URL:https://fiftywestbrew.com/event/tie-dye-tuesday/2018-12-04/
LOCATION:Fifty West Canoe & Kayak\, 7639 Wooster Pike\, Cincinnati\, OH\, 45227\, United States
CATEGORIES:Canoe & Kayak,Outdoors,Special Event
GEO:39.1387708;-84.3540782
X-APPLE-STRUCTURED-LOCATION;VALUE=URI;X-ADDRESS=Fifty West Canoe & Kayak 7639 Wooster Pike Cincinnati OH 45227 United States;X-APPLE-RADIUS=500;X-TITLE=7639 Wooster Pike:geo:-84.3540782,39.1387708
END:VEVENT
BEGIN:VEVENT
DTSTART;TZID=America/Halifax:20181205T193000
DTEND;TZID=America/Halifax:20181205T220000
DTSTAMP:20260420T094826
CREATED:20180411T200223Z
LAST-MODIFIED:20180411T200223Z
UID:10001967-1544038200-1544047200@fiftywestbrew.com
SUMMARY:Trivia Night
DESCRIPTION:Think you got what it takes to be a Fifty West trivia champion?? Come out and prove it! Every Wednesday night at 7:30 PM we have trivia at Pro Works with prizes for 1st\, 2nd\, and 3rd place!
URL:https://fiftywestbrew.com/event/trivia-night-15/2018-12-05/
LOCATION:Fifty West Production Works\, 7605 Wooster Pike\, Cincinnati\, OH\, 45227\, United States
CATEGORIES:Production Works,Weekly Staple
GEO:39.1392932;-84.3551409
X-APPLE-STRUCTURED-LOCATION;VALUE=URI;X-ADDRESS=Fifty West Production Works 7605 Wooster Pike Cincinnati OH 45227 United States;X-APPLE-RADIUS=500;X-TITLE=7605 Wooster Pike:geo:-84.3551409,39.1392932
END:VEVENT
BEGIN:VEVENT
DTSTART;VALUE=DATE:20181211
DTEND;VALUE=DATE:20181212
DTSTAMP:20260420T094826
CREATED:20180517T133008Z
LAST-MODIFIED:20190520T184249Z
UID:10002082-1544486400-1544572799@fiftywestbrew.com
SUMMARY:Tie-Dye Tuesday
DESCRIPTION:Wear tie-dye on Tuesdays at Fifty West Canoe & Kayak for $5 off your boat rental fee. 2 and 5 mile trips available. Reservations only on 10 mile trips.
URL:https://fiftywestbrew.com/event/tie-dye-tuesday/2018-12-11/
LOCATION:Fifty West Canoe & Kayak\, 7639 Wooster Pike\, Cincinnati\, OH\, 45227\, United States
CATEGORIES:Canoe & Kayak,Outdoors,Special Event
GEO:39.1387708;-84.3540782
X-APPLE-STRUCTURED-LOCATION;VALUE=URI;X-ADDRESS=Fifty West Canoe & Kayak 7639 Wooster Pike Cincinnati OH 45227 United States;X-APPLE-RADIUS=500;X-TITLE=7639 Wooster Pike:geo:-84.3540782,39.1387708
END:VEVENT
BEGIN:VEVENT
DTSTART;TZID=America/Halifax:20181212T193000
DTEND;TZID=America/Halifax:20181212T220000
DTSTAMP:20260420T094826
CREATED:20180411T200223Z
LAST-MODIFIED:20180411T200223Z
UID:10001968-1544643000-1544652000@fiftywestbrew.com
SUMMARY:Trivia Night
DESCRIPTION:Think you got what it takes to be a Fifty West trivia champion?? Come out and prove it! Every Wednesday night at 7:30 PM we have trivia at Pro Works with prizes for 1st\, 2nd\, and 3rd place!
URL:https://fiftywestbrew.com/event/trivia-night-15/2018-12-12/
LOCATION:Fifty West Production Works\, 7605 Wooster Pike\, Cincinnati\, OH\, 45227\, United States
CATEGORIES:Production Works,Weekly Staple
GEO:39.1392932;-84.3551409
X-APPLE-STRUCTURED-LOCATION;VALUE=URI;X-ADDRESS=Fifty West Production Works 7605 Wooster Pike Cincinnati OH 45227 United States;X-APPLE-RADIUS=500;X-TITLE=7605 Wooster Pike:geo:-84.3551409,39.1392932
END:VEVENT
BEGIN:VEVENT
DTSTART;VALUE=DATE:20181218
DTEND;VALUE=DATE:20181219
DTSTAMP:20260420T094826
CREATED:20180517T133008Z
LAST-MODIFIED:20190520T184249Z
UID:10002083-1545091200-1545177599@fiftywestbrew.com
SUMMARY:Tie-Dye Tuesday
DESCRIPTION:Wear tie-dye on Tuesdays at Fifty West Canoe & Kayak for $5 off your boat rental fee. 2 and 5 mile trips available. Reservations only on 10 mile trips.
URL:https://fiftywestbrew.com/event/tie-dye-tuesday/2018-12-18/
LOCATION:Fifty West Canoe & Kayak\, 7639 Wooster Pike\, Cincinnati\, OH\, 45227\, United States
CATEGORIES:Canoe & Kayak,Outdoors,Special Event
GEO:39.1387708;-84.3540782
X-APPLE-STRUCTURED-LOCATION;VALUE=URI;X-ADDRESS=Fifty West Canoe & Kayak 7639 Wooster Pike Cincinnati OH 45227 United States;X-APPLE-RADIUS=500;X-TITLE=7639 Wooster Pike:geo:-84.3540782,39.1387708
END:VEVENT
BEGIN:VEVENT
DTSTART;TZID=America/Halifax:20181219T193000
DTEND;TZID=America/Halifax:20181219T220000
DTSTAMP:20260420T094826
CREATED:20180411T200223Z
LAST-MODIFIED:20180411T200223Z
UID:10001969-1545247800-1545256800@fiftywestbrew.com
SUMMARY:Trivia Night
DESCRIPTION:Think you got what it takes to be a Fifty West trivia champion?? Come out and prove it! Every Wednesday night at 7:30 PM we have trivia at Pro Works with prizes for 1st\, 2nd\, and 3rd place!
URL:https://fiftywestbrew.com/event/trivia-night-15/2018-12-19/
LOCATION:Fifty West Production Works\, 7605 Wooster Pike\, Cincinnati\, OH\, 45227\, United States
CATEGORIES:Production Works,Weekly Staple
GEO:39.1392932;-84.3551409
X-APPLE-STRUCTURED-LOCATION;VALUE=URI;X-ADDRESS=Fifty West Production Works 7605 Wooster Pike Cincinnati OH 45227 United States;X-APPLE-RADIUS=500;X-TITLE=7605 Wooster Pike:geo:-84.3551409,39.1392932
END:VEVENT
BEGIN:VEVENT
DTSTART;TZID=America/New_York:20181222T120000
DTEND;TZID=America/New_York:20181222T170000
DTSTAMP:20260420T094826
CREATED:20181221T180208Z
LAST-MODIFIED:20181221T180208Z
UID:10002366-1545480000-1545498000@fiftywestbrew.com
SUMMARY:Saturday Morning Cartoon Can Release
DESCRIPTION:Join us on Saturday\, December 22nd for a special can release of Saturday Morning Cartoons\, a BA Breakfast Stout with chocolate cereal\, cocoa nibs\, vanilla and coffee brewed in collaboration with our friends from Cincinnati Craft Beer Club and The Party Source. This beer will be packaged in 16oz single cans. \nAttendees will be able to enjoy a special draft list the day of the event including Saturday Morning Cartoons and two of the top variants voted on the members of the Cincinnati Craft Beer Club\, Mexican Hot Chocolate and Chocolate Berry Jam. We will also be playing cartoons and eating cereal all morning. \nSome of our dedicated brewer staff will be joining our bartenders and slinging pints from Noon to 2pm to answer any questions you may have. \nThe Party Source will be on site holding a raffle for a chance to purchase a bottle of Van Winkle 12 year Lot B. Participants may enter in person at the event. The winner will not have to be present to win HOWEVER the bottle must be purchased and picked up at The Party Source by the person whose name is on the ticket. NO PROXIES ALLOWED. No purchase necessary to enter. \nFor up to date information and announcements\, please keep checking back\, as we will update this with information as it’s available. \nWhen: Saturday\, December 22\, 2018\nWhere: Fifty West Production Works\nTime: Release starts at 12pm (noon). This is a first come\, first serve event.
URL:https://fiftywestbrew.com/event/saturday-morning-cartoon-can-release/
LOCATION:Fifty West Production Works\, 7605 Wooster Pike\, Cincinnati\, OH\, 45227\, United States
CATEGORIES:16oz Can Release
GEO:39.1392932;-84.3551409
X-APPLE-STRUCTURED-LOCATION;VALUE=URI;X-ADDRESS=Fifty West Production Works 7605 Wooster Pike Cincinnati OH 45227 United States;X-APPLE-RADIUS=500;X-TITLE=7605 Wooster Pike:geo:-84.3551409,39.1392932
END:VEVENT
BEGIN:VEVENT
DTSTART;VALUE=DATE:20181225
DTEND;VALUE=DATE:20181226
DTSTAMP:20260420T094826
CREATED:20180517T133008Z
LAST-MODIFIED:20190520T184249Z
UID:10002084-1545696000-1545782399@fiftywestbrew.com
SUMMARY:Tie-Dye Tuesday
DESCRIPTION:Wear tie-dye on Tuesdays at Fifty West Canoe & Kayak for $5 off your boat rental fee. 2 and 5 mile trips available. Reservations only on 10 mile trips.
URL:https://fiftywestbrew.com/event/tie-dye-tuesday/2018-12-25/
LOCATION:Fifty West Canoe & Kayak\, 7639 Wooster Pike\, Cincinnati\, OH\, 45227\, United States
CATEGORIES:Canoe & Kayak,Outdoors,Special Event
GEO:39.1387708;-84.3540782
X-APPLE-STRUCTURED-LOCATION;VALUE=URI;X-ADDRESS=Fifty West Canoe & Kayak 7639 Wooster Pike Cincinnati OH 45227 United States;X-APPLE-RADIUS=500;X-TITLE=7639 Wooster Pike:geo:-84.3540782,39.1387708
END:VEVENT
BEGIN:VEVENT
DTSTART;TZID=America/Halifax:20181226T193000
DTEND;TZID=America/Halifax:20181226T220000
DTSTAMP:20260420T094826
CREATED:20180411T200223Z
LAST-MODIFIED:20180411T200223Z
UID:10001970-1545852600-1545861600@fiftywestbrew.com
SUMMARY:Trivia Night
DESCRIPTION:Think you got what it takes to be a Fifty West trivia champion?? Come out and prove it! Every Wednesday night at 7:30 PM we have trivia at Pro Works with prizes for 1st\, 2nd\, and 3rd place!
URL:https://fiftywestbrew.com/event/trivia-night-15/2018-12-26/
LOCATION:Fifty West Production Works\, 7605 Wooster Pike\, Cincinnati\, OH\, 45227\, United States
CATEGORIES:Production Works,Weekly Staple
GEO:39.1392932;-84.3551409
X-APPLE-STRUCTURED-LOCATION;VALUE=URI;X-ADDRESS=Fifty West Production Works 7605 Wooster Pike Cincinnati OH 45227 United States;X-APPLE-RADIUS=500;X-TITLE=7605 Wooster Pike:geo:-84.3551409,39.1392932
END:VEVENT
BEGIN:VEVENT
DTSTART;TZID=America/New_York:20181231T180000
DTEND;TZID=America/New_York:20190101T010000
DTSTAMP:20260420T094826
CREATED:20181203T224239Z
LAST-MODIFIED:20181219T192417Z
UID:10002365-1546279200-1546304400@fiftywestbrew.com
SUMMARY:Fifty West New Year's Eve
DESCRIPTION:Join us at the Fifty West Brewpub for a private\, four-course NYE beer dinner to celebrate the end 2018 and the beginning of 2019! \nOur Executive Chef\, John Tomain\, and our Brewmaster Scott LaFolette\, are excited to share an exclusive\, one-of-a-kind New Year’s Eve experience that will help you ring in the the New Year in style. \nThe evening begins at 6pm with a cocktail or reception beer. Guests will be seated at 7pm\, at which time we will serve the first course. Each subsequent course will be accompanied with a flavor description and beer pairing presented by Executive Chef John Tomain.
URL:https://fiftywestbrew.com/event/fifty-west-new-years-eve/
LOCATION:OH
CATEGORIES:Brewpub,Special Event
END:VEVENT
END:VCALENDAR