BEGIN:VCALENDAR
VERSION:2.0
PRODID:-//Fifty West Brewing Company - ECPv6.15.12.1//NONSGML v1.0//EN
CALSCALE:GREGORIAN
METHOD:PUBLISH
X-ORIGINAL-URL:https://fiftywestbrew.com
X-WR-CALDESC:Events for Fifty West Brewing Company
REFRESH-INTERVAL;VALUE=DURATION:PT1H
X-Robots-Tag:noindex
X-PUBLISHED-TTL:PT1H
BEGIN:VTIMEZONE
TZID:America/Halifax
BEGIN:DAYLIGHT
TZOFFSETFROM:-0400
TZOFFSETTO:-0300
TZNAME:ADT
DTSTART:20160313T060000
END:DAYLIGHT
BEGIN:STANDARD
TZOFFSETFROM:-0300
TZOFFSETTO:-0400
TZNAME:AST
DTSTART:20161106T050000
END:STANDARD
BEGIN:DAYLIGHT
TZOFFSETFROM:-0400
TZOFFSETTO:-0300
TZNAME:ADT
DTSTART:20170312T060000
END:DAYLIGHT
BEGIN:STANDARD
TZOFFSETFROM:-0300
TZOFFSETTO:-0400
TZNAME:AST
DTSTART:20171105T050000
END:STANDARD
BEGIN:DAYLIGHT
TZOFFSETFROM:-0400
TZOFFSETTO:-0300
TZNAME:ADT
DTSTART:20180311T060000
END:DAYLIGHT
BEGIN:STANDARD
TZOFFSETFROM:-0300
TZOFFSETTO:-0400
TZNAME:AST
DTSTART:20181104T050000
END:STANDARD
END:VTIMEZONE
BEGIN:VEVENT
DTSTART;VALUE=DATE:20170123
DTEND;VALUE=DATE:20170124
DTSTAMP:20260421T231902
CREATED:20161230T201042Z
LAST-MODIFIED:20161230T202107Z
UID:10001824-1485129600-1485215999@fiftywestbrew.com
SUMMARY:Industry Night at Pro Works
DESCRIPTION:You’ve spent all month taking care of other people\, now let us take care of you! Industry vets get $3 Jameson drinks and $4 Drafts.
URL:https://fiftywestbrew.com/event/industry-night-pro-works/
LOCATION:OH
CATEGORIES:Production Works,Special Event
END:VEVENT
END:VCALENDAR