BEGIN:VCALENDAR
VERSION:2.0
PRODID:-//Fifty West Brewing Company - ECPv6.15.12.1//NONSGML v1.0//EN
CALSCALE:GREGORIAN
METHOD:PUBLISH
X-WR-CALNAME:Fifty West Brewing Company
X-ORIGINAL-URL:https://fiftywestbrew.com
X-WR-CALDESC:Events for Fifty West Brewing Company
REFRESH-INTERVAL;VALUE=DURATION:PT1H
X-Robots-Tag:noindex
X-PUBLISHED-TTL:PT1H
BEGIN:VTIMEZONE
TZID:America/New_York
BEGIN:DAYLIGHT
TZOFFSETFROM:-0500
TZOFFSETTO:-0400
TZNAME:EDT
DTSTART:20180311T070000
END:DAYLIGHT
BEGIN:STANDARD
TZOFFSETFROM:-0400
TZOFFSETTO:-0500
TZNAME:EST
DTSTART:20181104T060000
END:STANDARD
BEGIN:DAYLIGHT
TZOFFSETFROM:-0500
TZOFFSETTO:-0400
TZNAME:EDT
DTSTART:20190310T070000
END:DAYLIGHT
BEGIN:STANDARD
TZOFFSETFROM:-0400
TZOFFSETTO:-0500
TZNAME:EST
DTSTART:20191103T060000
END:STANDARD
BEGIN:DAYLIGHT
TZOFFSETFROM:-0500
TZOFFSETTO:-0400
TZNAME:EDT
DTSTART:20200308T070000
END:DAYLIGHT
BEGIN:STANDARD
TZOFFSETFROM:-0400
TZOFFSETTO:-0500
TZNAME:EST
DTSTART:20201101T060000
END:STANDARD
END:VTIMEZONE
BEGIN:VEVENT
DTSTART;TZID=America/New_York:20190327T190000
DTEND;TZID=America/New_York:20190327T210000
DTSTAMP:20260422T063253
CREATED:20190305T182343Z
LAST-MODIFIED:20190305T182343Z
UID:10002370-1553713200-1553720400@fiftywestbrew.com
SUMMARY:Route 50 Beer Dinner Series:  West Virginia
DESCRIPTION:Join us throughout 2019 at Fifty West Brewpub on a culinary road trip across Route 50 and the United States.  We will be hosting a 3-course beer dinner\, inspired by a different state across Route 50 each month. \nOur Executive Chef\, John Tomain\, and our Brewmaster\, Scott LaFolette are thrilled to continue to present this exclusive monthly culinary and craft beer experience. \nThe March stop of this journey\, as we enter Appalachia\, is the State of West Virginia.  “Montani Semper Liberi” or “Mountaineers Are Always Free\,” serves as the backdrop and inspiration for our adventurous meal.   Guests will be seated at 7PM.  Shortly thereafter we will serve the first course.  Each course is accompanied with a flavor description and beer pairing presented by John and Scott. \nThe remaining destinations following West Virginia are as follows: Ohio\, Indiana\, Illinois\, Kansas\, Missouri\, Colorado\, Utah\, Nevada\, California.  Meals are tentatively scheduled as the 4th Wednesday of every month. \nStay tuned for more details regarding the menu.
URL:https://fiftywestbrew.com/event/route-50-beer-dinner-series-west-virginia/
LOCATION:OH
CATEGORIES:Brewpub,Route 50 Beer Dinner Series,Special Event
END:VEVENT
END:VCALENDAR