BEGIN:VCALENDAR
VERSION:2.0
PRODID:-//Fifty West Brewing Company - ECPv6.15.12.1//NONSGML v1.0//EN
CALSCALE:GREGORIAN
METHOD:PUBLISH
X-WR-CALNAME:Fifty West Brewing Company
X-ORIGINAL-URL:https://fiftywestbrew.com
X-WR-CALDESC:Events for Fifty West Brewing Company
REFRESH-INTERVAL;VALUE=DURATION:PT1H
X-Robots-Tag:noindex
X-PUBLISHED-TTL:PT1H
BEGIN:VTIMEZONE
TZID:America/Halifax
BEGIN:DAYLIGHT
TZOFFSETFROM:-0400
TZOFFSETTO:-0300
TZNAME:ADT
DTSTART:20150308T060000
END:DAYLIGHT
BEGIN:STANDARD
TZOFFSETFROM:-0300
TZOFFSETTO:-0400
TZNAME:AST
DTSTART:20151101T050000
END:STANDARD
BEGIN:DAYLIGHT
TZOFFSETFROM:-0400
TZOFFSETTO:-0300
TZNAME:ADT
DTSTART:20160313T060000
END:DAYLIGHT
BEGIN:STANDARD
TZOFFSETFROM:-0300
TZOFFSETTO:-0400
TZNAME:AST
DTSTART:20161106T050000
END:STANDARD
BEGIN:DAYLIGHT
TZOFFSETFROM:-0400
TZOFFSETTO:-0300
TZNAME:ADT
DTSTART:20170312T060000
END:DAYLIGHT
BEGIN:STANDARD
TZOFFSETFROM:-0300
TZOFFSETTO:-0400
TZNAME:AST
DTSTART:20171105T050000
END:STANDARD
BEGIN:DAYLIGHT
TZOFFSETFROM:-0400
TZOFFSETTO:-0300
TZNAME:ADT
DTSTART:20180311T060000
END:DAYLIGHT
BEGIN:STANDARD
TZOFFSETFROM:-0300
TZOFFSETTO:-0400
TZNAME:AST
DTSTART:20181104T050000
END:STANDARD
END:VTIMEZONE
BEGIN:VTIMEZONE
TZID:UTC
BEGIN:STANDARD
TZOFFSETFROM:+0000
TZOFFSETTO:+0000
TZNAME:UTC
DTSTART:20150101T000000
END:STANDARD
END:VTIMEZONE
BEGIN:VEVENT
DTSTART;TZID=America/Halifax:20170416T110000
DTEND;TZID=America/Halifax:20170416T150000
DTSTAMP:20260425T072615
CREATED:20170331T173834Z
LAST-MODIFIED:20170331T173834Z
UID:10001890-1492340400-1492354800@fiftywestbrew.com
SUMMARY:Easter Brunch
DESCRIPTION:Join us from 11am-3pm at the Brewpub to fill up on delicious original brunch menu dishes and drinks! You must have a reservation so call ahead starting on April 10th to lock down a table.
URL:https://fiftywestbrew.com/event/easter-brunch/
CATEGORIES:Brewpub
END:VEVENT
BEGIN:VEVENT
DTSTART;VALUE=DATE:20170317
DTEND;VALUE=DATE:20170318
DTSTAMP:20260425T072615
CREATED:20170224T202952Z
LAST-MODIFIED:20170224T202952Z
UID:10001832-1489708800-1489795199@fiftywestbrew.com
SUMMARY:Gaddy's Irish Red St Patrick's Day Release
DESCRIPTION:Traditional spring seasonal Irish Red that is sweet and malty. Brewed in honor of Dan-The-Man Gaddy.
URL:https://fiftywestbrew.com/event/gaddys-irish-red-st-patricks-day-release/
CATEGORIES:Brewpub,Draft Release
END:VEVENT
BEGIN:VEVENT
DTSTART;VALUE=DATE:20170126
DTEND;VALUE=DATE:20170127
DTSTAMP:20260425T072615
CREATED:20161230T201750Z
LAST-MODIFIED:20161230T201750Z
UID:10001825-1485388800-1485475199@fiftywestbrew.com
SUMMARY:New Dinner Menu Release
DESCRIPTION:Try an all new item off of the dinner menu launching on January 26th!
URL:https://fiftywestbrew.com/event/new-dinner-menu-release/
CATEGORIES:Brewpub
END:VEVENT
BEGIN:VEVENT
DTSTART;VALUE=DATE:20170109
DTEND;VALUE=DATE:20170110
DTSTAMP:20260425T072615
CREATED:20161230T200208Z
LAST-MODIFIED:20161230T200208Z
UID:10001823-1483920000-1484006399@fiftywestbrew.com
SUMMARY:New Brunch Menu Release
DESCRIPTION:Brunch available from 11am-3pm every Sunday\, but this time with a brand new menu.
URL:https://fiftywestbrew.com/event/new-brunch-menu-release/
CATEGORIES:Brewers' Brunch,Brewpub
END:VEVENT
BEGIN:VEVENT
DTSTART;TZID=America/Halifax:20161215T170000
DTEND;TZID=America/Halifax:20161215T210000
DTSTAMP:20260425T072615
CREATED:20161202T222227Z
LAST-MODIFIED:20161202T222227Z
UID:10001812-1481821200-1481835600@fiftywestbrew.com
SUMMARY:Share the Road: Ronald McDonald House
DESCRIPTION:Come to the Fifty West Brewpub on December 15th to show your support for the Ronald McDonald House. We’ll be donating a portion of the night’s proceeds to this charitable cause!
URL:https://fiftywestbrew.com/event/share-road-ronald-mcdonald-house/
LOCATION:Fifty West Brewpub\, 7668 Wooster Pike\, Cincinnati\, OH\, 45227\, United States
CATEGORIES:Brewpub,Charity Event
GEO:39.1394375;-84.3538479
X-APPLE-STRUCTURED-LOCATION;VALUE=URI;X-ADDRESS=Fifty West Brewpub 7668 Wooster Pike Cincinnati OH 45227 United States;X-APPLE-RADIUS=500;X-TITLE=7668 Wooster Pike:geo:-84.3538479,39.1394375
END:VEVENT
BEGIN:VEVENT
DTSTART;TZID=America/Halifax:20161129T160000
DTEND;TZID=America/Halifax:20161129T210000
DTSTAMP:20260425T072615
CREATED:20161017T185541Z
LAST-MODIFIED:20161110T220449Z
UID:10001699-1480435200-1480453200@fiftywestbrew.com
SUMMARY:Penny Flips
DESCRIPTION:Every Tuesday night at the Brewpub is Penny Flips! Between 4pm and 9pm each Tuesday\, we flip a penny. And\, if you call it correctly\, you get your beer for just one penny! It doesn’t get much better than that!
URL:https://fiftywestbrew.com/event/penny-flips-16/
LOCATION:Fifty West Brewpub\, 7668 Wooster Pike\, Cincinnati\, OH\, 45227\, United States
CATEGORIES:Brewpub,Weekly Staple
GEO:39.1394375;-84.3538479
X-APPLE-STRUCTURED-LOCATION;VALUE=URI;X-ADDRESS=Fifty West Brewpub 7668 Wooster Pike Cincinnati OH 45227 United States;X-APPLE-RADIUS=500;X-TITLE=7668 Wooster Pike:geo:-84.3538479,39.1394375
END:VEVENT
BEGIN:VEVENT
DTSTART;VALUE=DATE:20161128
DTEND;VALUE=DATE:20161129
DTSTAMP:20260425T072615
CREATED:20161101T201549Z
LAST-MODIFIED:20161101T201549Z
UID:10001740-1480291200-1480377599@fiftywestbrew.com
SUMMARY:Case of the Mondays
DESCRIPTION:Every Monday\, for every 4-pack of Punch You in the EyePA you purchase\, we’ll put your name into our monthly Fifty West gift basket raffle. Then\, at the end of each month\, we’ll draw a winner! \n***Promotion available at both locations***
URL:https://fiftywestbrew.com/event/case-of-the-mondays-3/
CATEGORIES:Brewpub,Production Works,Weekly Staple
END:VEVENT
BEGIN:VEVENT
DTSTART;TZID=America/Halifax:20161127T110000
DTEND;TZID=America/Halifax:20161127T150000
DTSTAMP:20260425T072615
CREATED:20161104T160658Z
LAST-MODIFIED:20161104T204355Z
UID:10001748-1480244400-1480258800@fiftywestbrew.com
SUMMARY:Harvest Brunch
DESCRIPTION:The Harvest Brunch is a ticketed\, three-course beer brunch featuring a menu inspired by the changing seasons on November 27th starting at 11am. \nWe’re excited to announce that this Brewers’ Brunch will be held in collaboration with our friends from Mad Moon Craft Cidery! Mad Moon is known for creating awesome craft cider and hails from Columbus\, Ohio. So\, we decided there was no better way to celebrate the changing of the seasons than to get together and bring you a beer and cider brunch pairing that celebrates fall. \nParticipants will enjoy two beverage pairings with each course\, one from Fifty West and one from Mad Moon\, while reps and our executive chef speak about each course. \nThese events sell out fast. So\, act quick and purchase your tickets today!
URL:https://fiftywestbrew.com/event/harvest-brunch/
LOCATION:Fifty West Brewpub\, 7668 Wooster Pike\, Cincinnati\, OH\, 45227\, United States
CATEGORIES:Brewers' Brunch,Brewpub
GEO:39.1394375;-84.3538479
X-APPLE-STRUCTURED-LOCATION;VALUE=URI;X-ADDRESS=Fifty West Brewpub 7668 Wooster Pike Cincinnati OH 45227 United States;X-APPLE-RADIUS=500;X-TITLE=7668 Wooster Pike:geo:-84.3538479,39.1394375
END:VEVENT
BEGIN:VEVENT
DTSTART;TZID=America/Halifax:20161122T160000
DTEND;TZID=America/Halifax:20161122T210000
DTSTAMP:20260425T072615
CREATED:20161017T185430Z
LAST-MODIFIED:20161110T220521Z
UID:10001698-1479830400-1479848400@fiftywestbrew.com
SUMMARY:Penny Flips
DESCRIPTION:Every Tuesday night at the Brewpub is Penny Flips! Between 4pm and 9pm each Tuesday\, we flip a penny. And\, if you call it correctly\, you get your beer for just one penny! It doesn’t get much better than that!
URL:https://fiftywestbrew.com/event/penny-flips-15/
LOCATION:Fifty West Brewpub\, 7668 Wooster Pike\, Cincinnati\, OH\, 45227\, United States
CATEGORIES:Brewpub,Weekly Staple
GEO:39.1394375;-84.3538479
X-APPLE-STRUCTURED-LOCATION;VALUE=URI;X-ADDRESS=Fifty West Brewpub 7668 Wooster Pike Cincinnati OH 45227 United States;X-APPLE-RADIUS=500;X-TITLE=7668 Wooster Pike:geo:-84.3538479,39.1394375
END:VEVENT
BEGIN:VEVENT
DTSTART;VALUE=DATE:20161121
DTEND;VALUE=DATE:20161122
DTSTAMP:20260425T072615
CREATED:20161101T201420Z
LAST-MODIFIED:20161101T201420Z
UID:10001739-1479686400-1479772799@fiftywestbrew.com
SUMMARY:Case of the Mondays
DESCRIPTION:Every Monday\, for every 4-pack of Punch You in the EyePA you purchase\, we’ll put your name into our monthly Fifty West gift basket raffle. Then\, at the end of each month\, we’ll draw a winner! \n***Promotion available at both locations***
URL:https://fiftywestbrew.com/event/case-of-the-mondays-2/
CATEGORIES:Brewpub,Production Works,Weekly Staple
END:VEVENT
BEGIN:VEVENT
DTSTART;TZID=America/Halifax:20161117T160000
DTEND;TZID=America/Halifax:20161117T210000
DTSTAMP:20260425T072615
CREATED:20161101T203646Z
LAST-MODIFIED:20161104T172923Z
UID:10001741-1479398400-1479416400@fiftywestbrew.com
SUMMARY:Share the Road: March of Dimes
DESCRIPTION:Come Share the Road with us on 11.17.16 at the Fifty West Brewpub! This month\, we will be teaming up with our friends from the March of Dimes to help raise money to end premature birth\, birth defects and infant mortality.. When you stop out to the Brewpub on 11.17.16\, a portion of your meal’s proceeds will go to benefit the March of Dimes. \nYou can also expect reps from the March of Dimes to be on site to answer any questions! \n  \nFor more info on the March of Dimes\, click here.
URL:https://fiftywestbrew.com/event/share-road-march-dimes/
LOCATION:Fifty West Brewpub\, 7668 Wooster Pike\, Cincinnati\, OH\, 45227\, United States
CATEGORIES:Brewpub,Charity Event
GEO:39.1394375;-84.3538479
X-APPLE-STRUCTURED-LOCATION;VALUE=URI;X-ADDRESS=Fifty West Brewpub 7668 Wooster Pike Cincinnati OH 45227 United States;X-APPLE-RADIUS=500;X-TITLE=7668 Wooster Pike:geo:-84.3538479,39.1394375
END:VEVENT
BEGIN:VEVENT
DTSTART;TZID=America/Halifax:20161115T160000
DTEND;TZID=America/Halifax:20161115T210000
DTSTAMP:20260425T072615
CREATED:20161017T185304Z
LAST-MODIFIED:20161110T220548Z
UID:10001697-1479225600-1479243600@fiftywestbrew.com
SUMMARY:Penny Flips
DESCRIPTION:Every Tuesday night at the Brewpub is Penny Flips! Between 4pm and 9pm each Tuesday\, we flip a penny. And\, if you call it correctly\, you get your beer for just one penny! It doesn’t get much better than that!
URL:https://fiftywestbrew.com/event/penny-flips-14/
LOCATION:Fifty West Brewpub\, 7668 Wooster Pike\, Cincinnati\, OH\, 45227\, United States
CATEGORIES:Brewpub,Weekly Staple
GEO:39.1394375;-84.3538479
X-APPLE-STRUCTURED-LOCATION;VALUE=URI;X-ADDRESS=Fifty West Brewpub 7668 Wooster Pike Cincinnati OH 45227 United States;X-APPLE-RADIUS=500;X-TITLE=7668 Wooster Pike:geo:-84.3538479,39.1394375
END:VEVENT
BEGIN:VEVENT
DTSTART;VALUE=DATE:20161114
DTEND;VALUE=DATE:20161115
DTSTAMP:20260425T072615
CREATED:20161101T201233Z
LAST-MODIFIED:20161101T201233Z
UID:10001738-1479081600-1479167999@fiftywestbrew.com
SUMMARY:Case of the Mondays
DESCRIPTION:Every Monday\, for every 4-pack of Punch You in the EyePA you purchase\, we’ll put your name into our monthly Fifty West gift basket raffle. Then\, at the end of each month\, we’ll draw a winner! \n  \n***Promotion available at both locations***
URL:https://fiftywestbrew.com/event/case-of-the-mondays/
CATEGORIES:Brewpub,Production Works,Weekly Staple
END:VEVENT
BEGIN:VEVENT
DTSTART;TZID=America/Halifax:20161108T160000
DTEND;TZID=America/Halifax:20161108T210000
DTSTAMP:20260425T072615
CREATED:20161017T185200Z
LAST-MODIFIED:20161017T185200Z
UID:10001696-1478620800-1478638800@fiftywestbrew.com
SUMMARY:Penny Flips
DESCRIPTION:Every Tuesday night at the Brewpub is Penny Flips! Between 4pm and 9pm each Tuesday\, we flip a penny. And\, if you call it correctly\, you get your beer for just one penny! It doesn’t get much better than that!
URL:https://fiftywestbrew.com/event/penny-flips-13/
LOCATION:Fifty West Brewpub\, 7668 Wooster Pike\, Cincinnati\, OH\, 45227\, United States
CATEGORIES:Brewpub,Weekly Staple
GEO:39.1394375;-84.3538479
X-APPLE-STRUCTURED-LOCATION;VALUE=URI;X-ADDRESS=Fifty West Brewpub 7668 Wooster Pike Cincinnati OH 45227 United States;X-APPLE-RADIUS=500;X-TITLE=7668 Wooster Pike:geo:-84.3538479,39.1394375
END:VEVENT
BEGIN:VEVENT
DTSTART;TZID=America/Halifax:20161105T160000
DTEND;TZID=America/Halifax:20161105T235500
DTSTAMP:20260425T072615
CREATED:20161003T174510Z
LAST-MODIFIED:20161005T143150Z
UID:10001692-1478361600-1478390100@fiftywestbrew.com
SUMMARY:The Great Ohio Brew N' Que
DESCRIPTION:Fifty West Brewing Company and Great Lakes Brewing Company present The Great Ohio Brew N’ ‘Que 2016. This is a ticketed event that will take place on 11/05/16 at the Fifty West Brewpub located at 7668 Wooster Pike Cincinnati\, OH 45227. \nExecutive chefs from 50 West and Great Lakes will be teaming up to create a truly spectacular menu of all you can eat BBQ with a variety of smoked BBQ meats\, sauces and sides (Including a vegetarian option). \nNothing goes with BBQ quite like a nice craft beer! On tap will include 10+ of Fifty West’s beers\, 10+ of Great Lake’s beers and a special collaboration beer. The Great Ohio Brew N’ ‘Que will be the first opportunity for anyone to try this one-of-a-kind brew formulated by Brewmasters Blake Horsburgh and Luke Purcell. \nTickets are $40 each and include all you can eat BBQ with suggested beer pairings\, 8 beer tickets redeemable towards any of the beers on tap including the collaboration beer\, and a Q&A with the Brewmasters. \nHope to see you here!
URL:https://fiftywestbrew.com/event/great-ohio-brew-n-que/
LOCATION:Fifty West Brewpub\, 7668 Wooster Pike\, Cincinnati\, OH\, 45227\, United States
CATEGORIES:Brewpub,Special Event
GEO:39.1394375;-84.3538479
X-APPLE-STRUCTURED-LOCATION;VALUE=URI;X-ADDRESS=Fifty West Brewpub 7668 Wooster Pike Cincinnati OH 45227 United States;X-APPLE-RADIUS=500;X-TITLE=7668 Wooster Pike:geo:-84.3538479,39.1394375
END:VEVENT
BEGIN:VEVENT
DTSTART;TZID=America/Halifax:20161101T160000
DTEND;TZID=America/Halifax:20161101T210000
DTSTAMP:20260425T072615
CREATED:20161017T185055Z
LAST-MODIFIED:20161017T185055Z
UID:10001695-1478016000-1478034000@fiftywestbrew.com
SUMMARY:Penny Flips
DESCRIPTION:Every Tuesday night at the Brewpub is Penny Flips! Between 4pm and 9pm each Tuesday\, we flip a penny. And\, if you call it correctly\, you get your beer for just one penny! It doesn’t get much better than that!
URL:https://fiftywestbrew.com/event/penny-flips-12/
LOCATION:Fifty West Brewpub\, 7668 Wooster Pike\, Cincinnati\, OH\, 45227\, United States
CATEGORIES:Brewpub,Weekly Staple
GEO:39.1394375;-84.3538479
X-APPLE-STRUCTURED-LOCATION;VALUE=URI;X-ADDRESS=Fifty West Brewpub 7668 Wooster Pike Cincinnati OH 45227 United States;X-APPLE-RADIUS=500;X-TITLE=7668 Wooster Pike:geo:-84.3538479,39.1394375
END:VEVENT
BEGIN:VEVENT
DTSTART;TZID=America/Halifax:20161027T160000
DTEND;TZID=America/Halifax:20161027T220000
DTSTAMP:20260425T072615
CREATED:20160928T172255Z
LAST-MODIFIED:20160928T172255Z
UID:10001690-1477584000-1477605600@fiftywestbrew.com
SUMMARY:Share the Road Charity Event: Pink Ribbon Girls
DESCRIPTION:This month\, we will be teaming up with our friends from Pink Ribbon Girls to help raise money for breast cancer research. When you stop out to the Brewpub on 10.27.16\, a portion of your meal’s proceeds will go to benefit the Pink Ribbon Girls. \n  \nYou can also expect raffles and reps from Pink Ribbon Girls to be on site to answer any questions!
URL:https://fiftywestbrew.com/event/share-road-charity-event-pink-ribbon-girls/
LOCATION:Fifty West Brewpub\, 7668 Wooster Pike\, Cincinnati\, OH\, 45227\, United States
CATEGORIES:Brewpub,Charity Event
GEO:39.1394375;-84.3538479
X-APPLE-STRUCTURED-LOCATION;VALUE=URI;X-ADDRESS=Fifty West Brewpub 7668 Wooster Pike Cincinnati OH 45227 United States;X-APPLE-RADIUS=500;X-TITLE=7668 Wooster Pike:geo:-84.3538479,39.1394375
END:VEVENT
BEGIN:VEVENT
DTSTART;TZID=UTC:20160927T160000
DTEND;TZID=UTC:20160927T210000
DTSTAMP:20260425T072615
CREATED:20160814T205829Z
LAST-MODIFIED:20160814T205829Z
UID:10001661-1474992000-1475010000@fiftywestbrew.com
SUMMARY:Penny Flips
DESCRIPTION:Every Tuesday night at the Brewpub is Penny Flips! Between 4pm and 9pm each Tuesday\, we flip a penny. And\, if you call it correctly\, you get your beer for just one penny! It doesn’t get much better than that!
URL:https://fiftywestbrew.com/event/penny-flips-7/
LOCATION:Fifty West Brewpub\, 7668 Wooster Pike\, Cincinnati\, OH\, 45227\, United States
CATEGORIES:Brewpub,Weekly Staple
GEO:39.1394375;-84.3538479
X-APPLE-STRUCTURED-LOCATION;VALUE=URI;X-ADDRESS=Fifty West Brewpub 7668 Wooster Pike Cincinnati OH 45227 United States;X-APPLE-RADIUS=500;X-TITLE=7668 Wooster Pike:geo:-84.3538479,39.1394375
END:VEVENT
BEGIN:VEVENT
DTSTART;TZID=UTC:20160920T160000
DTEND;TZID=UTC:20160920T210000
DTSTAMP:20260425T072615
CREATED:20160814T205802Z
LAST-MODIFIED:20160814T205802Z
UID:10001660-1474387200-1474405200@fiftywestbrew.com
SUMMARY:Penny Flips
DESCRIPTION:Every Tuesday night at the Brewpub is Penny Flips! Between 4pm and 9pm each Tuesday\, we flip a penny. And\, if you call it correctly\, you get your beer for just one penny! It doesn’t get much better than that!
URL:https://fiftywestbrew.com/event/penny-flips-6/
LOCATION:Fifty West Brewpub\, 7668 Wooster Pike\, Cincinnati\, OH\, 45227\, United States
CATEGORIES:Brewpub,Weekly Staple
GEO:39.1394375;-84.3538479
X-APPLE-STRUCTURED-LOCATION;VALUE=URI;X-ADDRESS=Fifty West Brewpub 7668 Wooster Pike Cincinnati OH 45227 United States;X-APPLE-RADIUS=500;X-TITLE=7668 Wooster Pike:geo:-84.3538479,39.1394375
END:VEVENT
BEGIN:VEVENT
DTSTART;TZID=UTC:20160913T160000
DTEND;TZID=UTC:20160913T210000
DTSTAMP:20260425T072615
CREATED:20160814T205648Z
LAST-MODIFIED:20160814T205648Z
UID:10001659-1473782400-1473800400@fiftywestbrew.com
SUMMARY:Penny Flips
DESCRIPTION:Every Tuesday night at the Brewpub is Penny Flips! Between 4pm and 9pm each Tuesday\, we flip a penny. And\, if you call it correctly\, you get your beer for just one penny! It doesn’t get much better than that!
URL:https://fiftywestbrew.com/event/penny-flips-5/
LOCATION:Fifty West Brewpub\, 7668 Wooster Pike\, Cincinnati\, OH\, 45227\, United States
CATEGORIES:Brewpub,Weekly Staple
GEO:39.1394375;-84.3538479
X-APPLE-STRUCTURED-LOCATION;VALUE=URI;X-ADDRESS=Fifty West Brewpub 7668 Wooster Pike Cincinnati OH 45227 United States;X-APPLE-RADIUS=500;X-TITLE=7668 Wooster Pike:geo:-84.3538479,39.1394375
END:VEVENT
BEGIN:VEVENT
DTSTART;TZID=UTC:20160906T160000
DTEND;TZID=UTC:20160906T210000
DTSTAMP:20260425T072615
CREATED:20160814T205556Z
LAST-MODIFIED:20160814T205556Z
UID:10001658-1473177600-1473195600@fiftywestbrew.com
SUMMARY:Penny Flips
DESCRIPTION:Every Tuesday night at the Brewpub is Penny Flips! Between 4pm and 9pm each Tuesday\, we flip a penny. And\, if you call it correctly\, you get your beer for just one penny! It doesn’t get much better than that!
URL:https://fiftywestbrew.com/event/penny-flips-4/
LOCATION:Fifty West Brewpub\, 7668 Wooster Pike\, Cincinnati\, OH\, 45227\, United States
CATEGORIES:Brewpub,Weekly Staple
GEO:39.1394375;-84.3538479
X-APPLE-STRUCTURED-LOCATION;VALUE=URI;X-ADDRESS=Fifty West Brewpub 7668 Wooster Pike Cincinnati OH 45227 United States;X-APPLE-RADIUS=500;X-TITLE=7668 Wooster Pike:geo:-84.3538479,39.1394375
END:VEVENT
END:VCALENDAR