BEGIN:VCALENDAR
VERSION:2.0
PRODID:-//Fifty West Brewing Company - ECPv6.15.12.1//NONSGML v1.0//EN
CALSCALE:GREGORIAN
METHOD:PUBLISH
X-WR-CALNAME:Fifty West Brewing Company
X-ORIGINAL-URL:https://fiftywestbrew.com
X-WR-CALDESC:Events for Fifty West Brewing Company
REFRESH-INTERVAL;VALUE=DURATION:PT1H
X-Robots-Tag:noindex
X-PUBLISHED-TTL:PT1H
BEGIN:VTIMEZONE
TZID:America/Halifax
BEGIN:DAYLIGHT
TZOFFSETFROM:-0400
TZOFFSETTO:-0300
TZNAME:ADT
DTSTART:20160313T060000
END:DAYLIGHT
BEGIN:STANDARD
TZOFFSETFROM:-0300
TZOFFSETTO:-0400
TZNAME:AST
DTSTART:20161106T050000
END:STANDARD
BEGIN:DAYLIGHT
TZOFFSETFROM:-0400
TZOFFSETTO:-0300
TZNAME:ADT
DTSTART:20170312T060000
END:DAYLIGHT
BEGIN:STANDARD
TZOFFSETFROM:-0300
TZOFFSETTO:-0400
TZNAME:AST
DTSTART:20171105T050000
END:STANDARD
BEGIN:DAYLIGHT
TZOFFSETFROM:-0400
TZOFFSETTO:-0300
TZNAME:ADT
DTSTART:20180311T060000
END:DAYLIGHT
BEGIN:STANDARD
TZOFFSETFROM:-0300
TZOFFSETTO:-0400
TZNAME:AST
DTSTART:20181104T050000
END:STANDARD
END:VTIMEZONE
BEGIN:VEVENT
DTSTART;TZID=America/Halifax:20170820T080000
DTEND;TZID=America/Halifax:20170820T120000
DTSTAMP:20260423T044550
CREATED:20170808T142952Z
LAST-MODIFIED:20170808T163313Z
UID:10001908-1503216000-1503230400@fiftywestbrew.com
SUMMARY:Coffeeblazing Ride
DESCRIPTION:The first of our CoffeeBlazing Series will offer a chance get out early on a Sunday for an chill urban bike ride around the city (no kit required).  The ride will begin and end at our shop\, and take will take riders on a 30 mile ride through Cincinnati and Northern Kentucky neighborhoods while sampling coffee houses across the city.  One of the stops will be at at Newberry Bros. Coffee in Newport. to take part in their 3rd Sunday where they serve up the freshest local pastries! Rides will be (somewhat) weather dependent.  Please RSVP on www.fiftywestcycling.com or Facebook to ensure our friends at Newberry Bros. can accommodate the group.
URL:https://fiftywestbrew.com/event/coffeeblazing-ride/
LOCATION:OH
CATEGORIES:Bike Rides
END:VEVENT
END:VCALENDAR