BEGIN:VCALENDAR
VERSION:2.0
PRODID:-//Fifty West Brewing Company - ECPv6.15.12.1//NONSGML v1.0//EN
CALSCALE:GREGORIAN
METHOD:PUBLISH
X-ORIGINAL-URL:https://fiftywestbrew.com
X-WR-CALDESC:Events for Fifty West Brewing Company
REFRESH-INTERVAL;VALUE=DURATION:PT1H
X-Robots-Tag:noindex
X-PUBLISHED-TTL:PT1H
BEGIN:VTIMEZONE
TZID:America/New_York
BEGIN:DAYLIGHT
TZOFFSETFROM:-0500
TZOFFSETTO:-0400
TZNAME:EDT
DTSTART:20220313T070000
END:DAYLIGHT
BEGIN:STANDARD
TZOFFSETFROM:-0400
TZOFFSETTO:-0500
TZNAME:EST
DTSTART:20221106T060000
END:STANDARD
BEGIN:DAYLIGHT
TZOFFSETFROM:-0500
TZOFFSETTO:-0400
TZNAME:EDT
DTSTART:20230312T070000
END:DAYLIGHT
BEGIN:STANDARD
TZOFFSETFROM:-0400
TZOFFSETTO:-0500
TZNAME:EST
DTSTART:20231105T060000
END:STANDARD
BEGIN:DAYLIGHT
TZOFFSETFROM:-0500
TZOFFSETTO:-0400
TZNAME:EDT
DTSTART:20240310T070000
END:DAYLIGHT
BEGIN:STANDARD
TZOFFSETFROM:-0400
TZOFFSETTO:-0500
TZNAME:EST
DTSTART:20241103T060000
END:STANDARD
END:VTIMEZONE
BEGIN:VEVENT
DTSTART;TZID=America/New_York:20230415T110000
DTEND;TZID=America/New_York:20230415T140000
DTSTAMP:20260421T191711
CREATED:20230316T164103Z
LAST-MODIFIED:20230316T172059Z
UID:10002609-1681556400-1681567200@fiftywestbrew.com
SUMMARY:Fifty West x Tuba Baking Co Brewer's Brunch
DESCRIPTION:  \n \nThe Brewer’s Brunch has been a staple event since we opened the Brewpub back in 2012 and it delights us with each request to keep ’em comin’! Tuba Baking Co was rated one of the top restaurants in Cincinnati in 2022\, serving up traditional southern German food from scratch! Pair this with our Lager lineup and cozy atmosphere\, and it’s sure to be your favorite brunch all year! \n  \nMenu and beer pairings coming soon! \n 
URL:https://fiftywestbrew.com/event/tubabakingcobrewersbrunch/
LOCATION:Fifty West Brewpub\, 7668 Wooster Pike\, Cincinnati\, OH\, 45227\, United States
GEO:39.1394375;-84.3538479
X-APPLE-STRUCTURED-LOCATION;VALUE=URI;X-ADDRESS=Fifty West Brewpub 7668 Wooster Pike Cincinnati OH 45227 United States;X-APPLE-RADIUS=500;X-TITLE=7668 Wooster Pike:geo:-84.3538479,39.1394375
END:VEVENT
END:VCALENDAR