BEGIN:VCALENDAR
VERSION:2.0
PRODID:-//Fifty West Brewing Company - ECPv6.15.12.1//NONSGML v1.0//EN
CALSCALE:GREGORIAN
METHOD:PUBLISH
X-ORIGINAL-URL:https://fiftywestbrew.com
X-WR-CALDESC:Events for Fifty West Brewing Company
REFRESH-INTERVAL;VALUE=DURATION:PT1H
X-Robots-Tag:noindex
X-PUBLISHED-TTL:PT1H
BEGIN:VTIMEZONE
TZID:America/New_York
BEGIN:DAYLIGHT
TZOFFSETFROM:-0500
TZOFFSETTO:-0400
TZNAME:EDT
DTSTART:20190310T070000
END:DAYLIGHT
BEGIN:STANDARD
TZOFFSETFROM:-0400
TZOFFSETTO:-0500
TZNAME:EST
DTSTART:20191103T060000
END:STANDARD
BEGIN:DAYLIGHT
TZOFFSETFROM:-0500
TZOFFSETTO:-0400
TZNAME:EDT
DTSTART:20200308T070000
END:DAYLIGHT
BEGIN:STANDARD
TZOFFSETFROM:-0400
TZOFFSETTO:-0500
TZNAME:EST
DTSTART:20201101T060000
END:STANDARD
BEGIN:DAYLIGHT
TZOFFSETFROM:-0500
TZOFFSETTO:-0400
TZNAME:EDT
DTSTART:20210314T070000
END:DAYLIGHT
BEGIN:STANDARD
TZOFFSETFROM:-0400
TZOFFSETTO:-0500
TZNAME:EST
DTSTART:20211107T060000
END:STANDARD
END:VTIMEZONE
BEGIN:VEVENT
DTSTART;TZID=America/New_York:20200111T080000
DTEND;TZID=America/New_York:20200501T170000
DTSTAMP:20260421T041459
CREATED:20191121T214403Z
LAST-MODIFIED:20200305T224834Z
UID:10002554-1578729600-1588352400@fiftywestbrew.com
SUMMARY:Spring Training Groups 2020
DESCRIPTION:
URL:https://fiftywestbrew.com/event/spring-training-groups-2020/
LOCATION:Fifty West Production Works\, 7605 Wooster Pike\, Cincinnati\, OH\, 45227\, United States
GEO:39.1392932;-84.3551409
X-APPLE-STRUCTURED-LOCATION;VALUE=URI;X-ADDRESS=Fifty West Production Works 7605 Wooster Pike Cincinnati OH 45227 United States;X-APPLE-RADIUS=500;X-TITLE=7605 Wooster Pike:geo:-84.3551409,39.1392932
END:VEVENT
BEGIN:VEVENT
DTSTART;TZID=America/New_York:20200309T190000
DTEND;TZID=America/New_York:20200309T210000
DTSTAMP:20260421T041459
CREATED:20200221T165832Z
LAST-MODIFIED:20200221T170402Z
UID:10002560-1583780400-1583787600@fiftywestbrew.com
SUMMARY:Paint and Sip with I.C.I. Studio- Sunset Island
DESCRIPTION:Come on March 9th for an instructional canvas painting experience taught by Jacqui from I.C.I. Studio! All skill levels are welcome–no art experience is necessary! I.C.I. will provide all materials including aprons\, easels\, brushes\, and 16 x 20 canvases. Ticket includes one beer of your choice!
URL:https://fiftywestbrew.com/event/paint-and-sip-with-i-c-i-studio-sunset-island/
LOCATION:OH
END:VEVENT
END:VCALENDAR